BEGIN:VCALENDAR
VERSION:2.0
PRODID:-//Rouhling - ECPv6.15.11//NONSGML v1.0//EN
CALSCALE:GREGORIAN
METHOD:PUBLISH
X-WR-CALNAME:Rouhling
X-ORIGINAL-URL:https://rouhling.sem-digital.com
X-WR-CALDESC:Évènements pour Rouhling
REFRESH-INTERVAL;VALUE=DURATION:PT1H
X-Robots-Tag:noindex
X-PUBLISHED-TTL:PT1H
BEGIN:VTIMEZONE
TZID:Europe/Paris
BEGIN:DAYLIGHT
TZOFFSETFROM:+0100
TZOFFSETTO:+0200
TZNAME:CEST
DTSTART:20230326T010000
END:DAYLIGHT
BEGIN:STANDARD
TZOFFSETFROM:+0200
TZOFFSETTO:+0100
TZNAME:CET
DTSTART:20231029T010000
END:STANDARD
BEGIN:DAYLIGHT
TZOFFSETFROM:+0100
TZOFFSETTO:+0200
TZNAME:CEST
DTSTART:20240331T010000
END:DAYLIGHT
BEGIN:STANDARD
TZOFFSETFROM:+0200
TZOFFSETTO:+0100
TZNAME:CET
DTSTART:20241027T010000
END:STANDARD
BEGIN:DAYLIGHT
TZOFFSETFROM:+0100
TZOFFSETTO:+0200
TZNAME:CEST
DTSTART:20250330T010000
END:DAYLIGHT
BEGIN:STANDARD
TZOFFSETFROM:+0200
TZOFFSETTO:+0100
TZNAME:CET
DTSTART:20251026T010000
END:STANDARD
BEGIN:DAYLIGHT
TZOFFSETFROM:+0100
TZOFFSETTO:+0200
TZNAME:CEST
DTSTART:20260329T010000
END:DAYLIGHT
BEGIN:STANDARD
TZOFFSETFROM:+0200
TZOFFSETTO:+0100
TZNAME:CET
DTSTART:20261025T010000
END:STANDARD
END:VTIMEZONE
BEGIN:VEVENT
DTSTART;TZID=Europe/Paris:20250822T113000
DTEND;TZID=Europe/Paris:20250822T170000
DTSTAMP:20260422T125848
CREATED:20241110T081930Z
LAST-MODIFIED:20250731T120711Z
UID:6043-1755862200-1755882000@rouhling.sem-digital.com
SUMMARY:Marché de Noël aux Alisiers
DESCRIPTION:Le groupe SOS seniors EHPAD « Les Alisiers » de Rouhling\, organise le samedi 30 novembre de 11h00 à 17h00 un Marché de Noël. \n–  Vente d’objets réalisés par les résidents.\n–  Restauration\, repas chaud\n–  Vente de biscuits gâteaux\n–  vin chaud\nVENEZ NOMBREUX !
URL:https://rouhling.sem-digital.com/evenement/marche-de-noel-aux-alisiers/
LOCATION:Les Alisiers\, 5 Rue Lamartine\, 57520 Rouhling\, Rouhling\, Sélectionner un État :\, 57520\, France
ATTACH;FMTTYPE=image/webp:https://rouhling.sem-digital.com/assets/uploads/2024/11/marche-noel-alisiers-2024-scaled.webp
END:VEVENT
BEGIN:VEVENT
DTSTART;TZID=Europe/Paris:20241222T160000
DTEND;TZID=Europe/Paris:20241222T210000
DTSTAMP:20260422T125848
CREATED:20241115T151918Z
LAST-MODIFIED:20241115T152638Z
UID:5803-1734883200-1734901200@rouhling.sem-digital.com
SUMMARY:Les Féeries de Noël des Pompiers samedi 22 décembre
DESCRIPTION:Les Féeries de Noël organisées par l’Amicale des Sapeurs Pompiers\nde \n16h à 21h\nà la Caserne des pompiers. \nDiverses animations\nSpectacle de feu par la compagnie\n« C’EST PAS NOUS » \n\nBuvette et vin chaud\nPetite restauration sur place.\nPetit marché de Noël\nEntrée gratuite
URL:https://rouhling.sem-digital.com/evenement/les-feeries-de-noel-des-pompiers-samedi-22-decembre/
LOCATION:Caserne des pompiers\, Rue des Écoles\, 57520 Rouhling\, Rouhling\, 57520\, France
ATTACH;FMTTYPE=image/webp:https://rouhling.sem-digital.com/assets/uploads/2024/11/Les_Feeries_de_Noel_des_Pompiers.webp
END:VEVENT
BEGIN:VEVENT
DTSTART;TZID=Europe/Paris:20241216T190000
DTEND;TZID=Europe/Paris:20241216T233000
DTSTAMP:20260422T125848
CREATED:20241202T143638Z
LAST-MODIFIED:20241210T164335Z
UID:6611-1734375600-1734391800@rouhling.sem-digital.com
SUMMARY:Soirée repas-concert
DESCRIPTION:Soirée Repas concert organisé par l’U.S.R. le samedi 7 décembre à partir de 19h00\nPrix 20€ Uniquement en prévente.\nPlaces limitées!\nRéservation au 06 42 02 00 98.
URL:https://rouhling.sem-digital.com/evenement/soiree-repas-concert/
LOCATION:U.S.R\, Rue des Jardins\, 57520\, Rouhling\, Sélectionner un État :\, 57520\, France
ATTACH;FMTTYPE=image/webp:https://rouhling.sem-digital.com/assets/uploads/2024/12/gilles-briche-guitare.webp
ORGANIZER;CN="U.S.R":MAILTO:fantomas524d@gmail.com
END:VEVENT
BEGIN:VEVENT
DTSTART;TZID=Europe/Paris:20241215T160000
DTEND;TZID=Europe/Paris:20241215T210000
DTSTAMP:20260422T125848
CREATED:20241115T151818Z
LAST-MODIFIED:20241115T152815Z
UID:5801-1734278400-1734296400@rouhling.sem-digital.com
SUMMARY:Les Féeries de Noël des Pompiers 15 décembre
DESCRIPTION:Les Féeries de Noël organisées par l’Amicale des Sapeurs Pompiers\nDimanches 15 décembre \nde \n16h à 21h\nà la Caserne des pompiers. \nDiverses animations\nAnimation par les élèves de\n« SARRE MUSIC SCHOLL » \n\nBuvette et vin chaud\nPetite restauration sur place.\nPetit marché de Noël\nEntrée gratuite
URL:https://rouhling.sem-digital.com/evenement/les-feeries-de-noel-des-pompiers-15-decembre/
LOCATION:Caserne des pompiers\, Rue des Écoles\, 57520 Rouhling\, Rouhling\, 57520\, France
ATTACH;FMTTYPE=image/webp:https://rouhling.sem-digital.com/assets/uploads/2024/11/Les_Feeries_de_Noel_des_Pompiers.webp
END:VEVENT
BEGIN:VEVENT
DTSTART;TZID=Europe/Paris:20241208T160000
DTEND;TZID=Europe/Paris:20241208T210000
DTSTAMP:20260422T125848
CREATED:20241115T143415Z
LAST-MODIFIED:20241115T152743Z
UID:5791-1733673600-1733691600@rouhling.sem-digital.com
SUMMARY:Les Féeries de Noël des Pompiers Dimanches 8
DESCRIPTION:Les Féeries de Noël organisées par l’Amicale des Sapeurs Pompiers\nDimanche 8 \nde \n16h à 21h\nà la Caserne des pompiers. \nDiverses animations\n08/12\nConcert\navec le Groupe « ECTO-1 » \n\nBuvette et vin chaud\nPetite restauration sur place.\nPetit marché de Noël\nEntrée gratuite
URL:https://rouhling.sem-digital.com/evenement/les-feeries-de-noel-des-pompiers/
LOCATION:Caserne des pompiers\, Rue des Écoles\, 57520 Rouhling\, Rouhling\, 57520\, France
ATTACH;FMTTYPE=image/webp:https://rouhling.sem-digital.com/assets/uploads/2024/11/Les_Feeries_de_Noel_des_Pompiers.webp
END:VEVENT
END:VCALENDAR